BEGIN:VCALENDAR
VERSION:2.0
PRODID:-//K.V. Wêz-wis Raerd - ECPv6.0.1.1//NONSGML v1.0//EN
CALSCALE:GREGORIAN
METHOD:PUBLISH
X-WR-CALNAME:K.V. Wêz-wis Raerd
X-ORIGINAL-URL:https://wez-wis.nl
X-WR-CALDESC:Evenementen voor K.V. Wêz-wis Raerd
REFRESH-INTERVAL;VALUE=DURATION:PT1H
X-Robots-Tag:noindex
X-PUBLISHED-TTL:PT1H
BEGIN:VTIMEZONE
TZID:Europe/Amsterdam
BEGIN:DAYLIGHT
TZOFFSETFROM:+0100
TZOFFSETTO:+0200
TZNAME:CEST
DTSTART:20150329T010000
END:DAYLIGHT
BEGIN:STANDARD
TZOFFSETFROM:+0200
TZOFFSETTO:+0100
TZNAME:CET
DTSTART:20151025T010000
END:STANDARD
END:VTIMEZONE
BEGIN:VEVENT
DTSTART;TZID=Europe/Amsterdam:20150320T200000
DTEND;TZID=Europe/Amsterdam:20150320T220000
DTSTAMP:20260420T201840
CREATED:20150223T110902Z
LAST-MODIFIED:20160401T083853Z
UID:667-1426881600-1426888800@wez-wis.nl
SUMMARY:Jaarvergadering
DESCRIPTION:Zie de onderstaande pagina voor de agenda en de daar bijbehorende stukken; \n\nhttps://wez-wis.nl/jaarvergadering-2015/\n\n\n					\n						\n							\n								\n								Share on Facebook\n								Share\n							\n													\n					\n								\n					\n						\n							\n							Share on TwitterTweet\n						\n											\n				\n								\n					\n						\n							Share on LinkedIn\n							Share\n						\n					\n				\n								\n					\n						\n							\n							Send email\n							Mail\n						\n					\n				\n\n								\n					\n						\n							Print\n							Print
URL:https://wez-wis.nl/event/jaarvergadering/
LOCATION:Dorpshuis “De Trijesprong”\, Buorren 30\, Raerd\, Friesland\, 9012DH\, Nederland
ORGANIZER;CN="KV%20W%C3%AAz-Wis%20Raerd%2Fde%20Lege%20Gea%C3%ABn":MAILTO:info@wez-wis.nl
END:VEVENT
END:VCALENDAR